BEGIN:VCALENDAR
VERSION:2.0
PRODID:-//Geological Society of Glasgow - ECPv6.15.20//NONSGML v1.0//EN
CALSCALE:GREGORIAN
METHOD:PUBLISH
X-ORIGINAL-URL:https://geologyglasgow.org.uk
X-WR-CALDESC:Events for Geological Society of Glasgow
REFRESH-INTERVAL;VALUE=DURATION:PT1H
X-Robots-Tag:noindex
X-PUBLISHED-TTL:PT1H
BEGIN:VTIMEZONE
TZID:Europe/London
BEGIN:DAYLIGHT
TZOFFSETFROM:+0000
TZOFFSETTO:+0100
TZNAME:BST
DTSTART:20190331T010000
END:DAYLIGHT
BEGIN:STANDARD
TZOFFSETFROM:+0100
TZOFFSETTO:+0000
TZNAME:GMT
DTSTART:20191027T010000
END:STANDARD
BEGIN:DAYLIGHT
TZOFFSETFROM:+0000
TZOFFSETTO:+0100
TZNAME:BST
DTSTART:20200329T010000
END:DAYLIGHT
BEGIN:STANDARD
TZOFFSETFROM:+0100
TZOFFSETTO:+0000
TZNAME:GMT
DTSTART:20201025T010000
END:STANDARD
BEGIN:DAYLIGHT
TZOFFSETFROM:+0000
TZOFFSETTO:+0100
TZNAME:BST
DTSTART:20210328T010000
END:DAYLIGHT
BEGIN:STANDARD
TZOFFSETFROM:+0100
TZOFFSETTO:+0000
TZNAME:GMT
DTSTART:20211031T010000
END:STANDARD
END:VTIMEZONE
BEGIN:VEVENT
DTSTART;TZID=Europe/London:20201112T193000
DTEND;TZID=Europe/London:20201112T210000
DTSTAMP:20260421T194348
CREATED:20200902T160436Z
LAST-MODIFIED:20200902T204114Z
UID:10001355-1605209400-1605214800@geologyglasgow.org.uk
SUMMARY:The Argyll Group: two beauts (online lecture)
DESCRIPTION:Professor Bruce Levell\, University of Oxford \nThe Neoproterozoic Argyll Group (Dalradian Supergroup)\, is a well-exposed\, 10 km thick\, sequence recording a transition from glacial through shallow marine to slope and deep-water sediments and pillow lavas. It probably represents the rift-to-drift sequence of the Laurentide margin of Iapetus. \nTwo units are presented: the Port Askaig Formation\, probably the Sturtian phase of “Snowball Earth”\, and the Jura “Quartzite”\, a 5 km thick cross-bedded\, sandstone. These allow general points to be made about “Snowball Earth” and preservation bias in the sedimentary record respectively. \nBruce has a DPhil from the University of Oxford. He worked for Royal Dutch Shell from 1978 to 2013\, when he became a visiting professor back at the University of Oxford. With Shell he worked as an explorer in Sarawak\, Sabah\, USA\, UK and Oman\, and as a researcher on basin modelling\, seismic stratigraphy\, and regional geology. He was variously Exploration Manager in Petroleum development Oman\, VP of New Ventures in Shell Global Exploration\, VP Emerging Technologies in Shell Research and Shell Group Chief Scientist for Geology. Within Shell he led several advanced training programmes in geology and in leadership. He was awarded the Silver Medal of the Petroleum Group\, Geological Society of London\, in 2009. He is currently editing a sedimentology textbook as well as being engaged in research projects in Scotland\, Oman\, and Zambia. \nThis lecture will be held as a Zoom meeting. Society members for whom we have email addresses will be sent an invitation a few days before the event. If you are a member but are not on our email list\, or a non-member who would like to join the meeting\, please email the society’s meetings secretary to request an invitation.
URL:https://geologyglasgow.org.uk/event/the-argyll-group-two-beauts-online-lecture/
LOCATION:Online event
CATEGORIES:Lectures
ATTACH;FMTTYPE=image/jpeg:https://geologyglasgow.org.uk/wp-content/uploads/2020/09/Levell.jpg
END:VEVENT
END:VCALENDAR