BEGIN:VCALENDAR
VERSION:2.0
PRODID:-//Geological Society of Glasgow - ECPv6.15.20//NONSGML v1.0//EN
CALSCALE:GREGORIAN
METHOD:PUBLISH
X-ORIGINAL-URL:https://geologyglasgow.org.uk
X-WR-CALDESC:Events for Geological Society of Glasgow
REFRESH-INTERVAL;VALUE=DURATION:PT1H
X-Robots-Tag:noindex
X-PUBLISHED-TTL:PT1H
BEGIN:VTIMEZONE
TZID:Europe/London
BEGIN:DAYLIGHT
TZOFFSETFROM:+0000
TZOFFSETTO:+0100
TZNAME:BST
DTSTART:20250330T010000
END:DAYLIGHT
BEGIN:STANDARD
TZOFFSETFROM:+0100
TZOFFSETTO:+0000
TZNAME:GMT
DTSTART:20251026T010000
END:STANDARD
BEGIN:DAYLIGHT
TZOFFSETFROM:+0000
TZOFFSETTO:+0100
TZNAME:BST
DTSTART:20260329T010000
END:DAYLIGHT
BEGIN:STANDARD
TZOFFSETFROM:+0100
TZOFFSETTO:+0000
TZNAME:GMT
DTSTART:20261025T010000
END:STANDARD
BEGIN:DAYLIGHT
TZOFFSETFROM:+0000
TZOFFSETTO:+0100
TZNAME:BST
DTSTART:20270328T010000
END:DAYLIGHT
BEGIN:STANDARD
TZOFFSETFROM:+0100
TZOFFSETTO:+0000
TZNAME:GMT
DTSTART:20271031T010000
END:STANDARD
END:VTIMEZONE
BEGIN:VEVENT
DTSTART;TZID=Europe/London:20260108T190000
DTEND;TZID=Europe/London:20260108T210000
DTSTAMP:20260421T181209
CREATED:20251125T121659Z
LAST-MODIFIED:20251223T203000Z
UID:10001525-1767898800-1767906000@geologyglasgow.org.uk
SUMMARY:From collision magmatism to a geothermal future in the Northern Highlands
DESCRIPTION:Silurian to Devonian intrusions and volcanic rocks are a key component of the landscape of the Northern and Grampian Highlands of Scotland. Whilst these bodies relate in some way to Caledonian and Acadian orogenesis\, a combination of data gaps and wider uncertainty about the nature of collision events on the Laurentian margin have made geologically consistent plate tectonic models elusive. This talk introduces a mix of geochronology\, petrogenesis\, and various concepts largely ignored in the Scottish literature: slab dynamics\, lithospheric stability\, and lower crustal magma storage. New U-Pb zircon data lead to the proposal that magmatism from ~450 – 395 Ma is linked successively to long-lived compression in a continental arc\, slab roll-back\, lithospheric delamination\, crustal melting\, and finally the far-field effects of Acadian collision related to a newly-proposed suture beneath the English Midlands. There are immediate implications for deep geothermal energy\, as the timing and distribution of high heat granites differs markedly from terrane to terrane. The talk will also touch on how teams from Glasgow\, Aberdeen\, Portsmouth\, Leicester and the British Geological Survey are looking to make better use of the zircon record of magmatic processes to solve pure and applied problems in the Highlands. \n  \n \nDr Iain Neill\, University of Glasgow \nAs a ‘jack of all trades’ I generate field\, petrographic\, geochemical and geochronological data largely from igneous\, metamorphic and faulted rocks. I synthesise these and other diverse datasets to solve geological problems of relevance to society\, including energy generation\, resource exploration\, and infrastructure development. Though my interests are global\, I have a particular focus on the future of the Highlands of Scotland where was born. \nI began my research career at Cardiff University as a NERC-funded PhD student\, re-evaluating the origin and tectonic evolution of the Caribbean Plate. At the University of Durham\, as a NERC-funded PDRA\, I used fieldwork and whole-rock geochemistry to refine our models of how mantle-derived magmatism operates during continental collision\, which introduced me to the geology of Iran and Armenia and to the integration of analogue data with geodynamic models. \nAfter two years as a University Teacher at Glasgow (2014-2016)\, I maintained my regional research interests and started broadening their application into areas of economic or societal importance. These include 1) fundamental connections between magma genesis\, plate tectonics and the generation of geological resources\, 2) hazards posed by tectonic and volcanic activity in collision settings\, 3) low and high temperature geothermal energy sources\, 4) the impact of the basement of the Caribbean Plate on modern subduction and 5) the use of Scotland’s bedrock in resource generation\, infrastructure\, and rural development. \nOn a human level I am keen to work with those interested in economics\, politics\, and rural development\, on the impact that geology may have in Scotland’s future. In particular\, if you are from or work in the Highlands of Scotland and have an interest in rocks\, give me a shout! \n  \n\n\n\nBook
URL:https://geologyglasgow.org.uk/event/from-collision-magmatism-to-a-geothermal-future-in-the-northern-highlands/
LOCATION:Lecture Theatre\, Kelvin Hall\, 1445 Argyle Street\, Glasgow\, G3 8AW\, United Kingdom
CATEGORIES:Lectures
ATTACH;FMTTYPE=image/jpeg:https://geologyglasgow.org.uk/wp-content/uploads/2025/12/iain-nell.jpg
END:VEVENT
BEGIN:VEVENT
DTSTART;TZID=Europe/London:20260121T133000
DTEND;TZID=Europe/London:20260121T150000
DTSTAMP:20260421T181209
CREATED:20260201T170725Z
LAST-MODIFIED:20260402T140541Z
UID:10001542-1769002200-1769007600@geologyglasgow.org.uk
SUMMARY:Geo-natter
DESCRIPTION:These informal meetings are the perfect opportunity to meet like-minded rock enthusiasts and chat about all things geological and palaeontological! \nA chance to look at rocks and fossils\, get your own specimens identified\, ask questions about geology and find out what’s happening locally. Tea and coffee provided. \n 
URL:https://geologyglasgow.org.uk/event/geo-natter-40/2026-01-21/
LOCATION:Kelvin Hall\, 1445 Argyle Street\, Glasgow\, G3 8AW\, United Kingdom
CATEGORIES:Other Events
ATTACH;FMTTYPE=image/png:https://geologyglasgow.org.uk/wp-content/uploads/2026/04/Screenshot-2026-04-02-150405.png
END:VEVENT
END:VCALENDAR