BEGIN:VCALENDAR
VERSION:2.0
PRODID:-//Geological Society of Glasgow - ECPv6.15.20//NONSGML v1.0//EN
CALSCALE:GREGORIAN
METHOD:PUBLISH
X-ORIGINAL-URL:https://geologyglasgow.org.uk
X-WR-CALDESC:Events for Geological Society of Glasgow
REFRESH-INTERVAL;VALUE=DURATION:PT1H
X-Robots-Tag:noindex
X-PUBLISHED-TTL:PT1H
BEGIN:VTIMEZONE
TZID:Europe/London
BEGIN:DAYLIGHT
TZOFFSETFROM:+0000
TZOFFSETTO:+0100
TZNAME:BST
DTSTART:20250330T010000
END:DAYLIGHT
BEGIN:STANDARD
TZOFFSETFROM:+0100
TZOFFSETTO:+0000
TZNAME:GMT
DTSTART:20251026T010000
END:STANDARD
BEGIN:DAYLIGHT
TZOFFSETFROM:+0000
TZOFFSETTO:+0100
TZNAME:BST
DTSTART:20260329T010000
END:DAYLIGHT
BEGIN:STANDARD
TZOFFSETFROM:+0100
TZOFFSETTO:+0000
TZNAME:GMT
DTSTART:20261025T010000
END:STANDARD
BEGIN:DAYLIGHT
TZOFFSETFROM:+0000
TZOFFSETTO:+0100
TZNAME:BST
DTSTART:20270328T010000
END:DAYLIGHT
BEGIN:STANDARD
TZOFFSETFROM:+0100
TZOFFSETTO:+0000
TZNAME:GMT
DTSTART:20271031T010000
END:STANDARD
END:VTIMEZONE
BEGIN:VEVENT
DTSTART;TZID=Europe/London:20260212T190000
DTEND;TZID=Europe/London:20260212T190000
DTSTAMP:20260421T163605
CREATED:20251211T105442Z
LAST-MODIFIED:20260130T170322Z
UID:10001529-1770922800-1770922800@geologyglasgow.org.uk
SUMMARY:Discovering mammals in the time of dinosaurs (T.N. George Medallist lecture)
DESCRIPTION:Dr Elsa Panciroli\, National Museum of Scotland\, Edinburgh \nMammals\, the furry\, milk-giving group to which humans also belong\, can trace their origins back to the Mesozoic. Fossils\, from the Isle of Skye in Scotland in particular\, are providing new insights\, revealing how their evolution alongside the dinosaurs set the foundations of their survival and success after the mass extinction 66 million years ago. In this talk\, we will find out about fieldwork in Skye uncovering exceptionally preserved fossils\, and the new analytical techniques revealing how mammals lived\, grew\, and flourished in the Jurassic. \nDr Elsa Panciroli is a palaeobiologist from the Scottish Highlands who completed her undergraduate degree in Environmental Science at the University of the Highlands and Islands\, her Masters in Palaeobiology at the University of Bristol\, and her PhD joint between the University of Edinburgh and National Museums Scotland. Her thesis examined fossil mammals from the Jurassic rocks of the Isle of Skye in Scotland. After working as a Research Assistant at the University of Oxford\, she continued her work on Scottish mammal fossils for her Research Fellowship at the Oxford University Museum of Natural History\, before taking up her position at National Museums Scotland in 2025. She is Secretary of the Palaeontographical Society and until recently she was chair of the Scottish Geology Trust. \nShe co-leads a team that has carried out annual fieldwork on the Isle of Skye since 2016. She has described multiple fossils from the island and the neighbouring Isle of Eigg\, including early mammals and their close relatives\, salamanders\, small reptiles and dinosaurs. This work is providing new insights into the evolution of these animal groups in the Middle Jurassic\, a time period which is poorly known globally. It is also a pivotal time for the birth of modern ecosystems.   \nAs well as a researcher\, Dr Panciroli is also a science writer and author\, and has featured on various television and radio programmes and podcasts. Her first book\, “Beasts Before Us”\, is a popular science title on the origin and evolution of mammals. This was followed by “The Earth\, A Biography of Life”\, the story of life on our planet through 47 incredible organisms. \n\n\n\nBook
URL:https://geologyglasgow.org.uk/event/discovering-mammals-in-the-time-of-dinosaurs-t-n-george-medallist-lecture/
LOCATION:Lecture Theatre\, Kelvin Hall\, 1445 Argyle Street\, Glasgow\, G3 8AW\, United Kingdom
CATEGORIES:Lectures
ATTACH;FMTTYPE=image/jpeg:https://geologyglasgow.org.uk/wp-content/uploads/2026/01/panciroli.jpg
END:VEVENT
BEGIN:VEVENT
DTSTART;TZID=Europe/London:20260218T133000
DTEND;TZID=Europe/London:20260218T150000
DTSTAMP:20260421T163605
CREATED:20260201T170725Z
LAST-MODIFIED:20260402T140541Z
UID:10001543-1771421400-1771426800@geologyglasgow.org.uk
SUMMARY:Geo-natter
DESCRIPTION:These informal meetings are the perfect opportunity to meet like-minded rock enthusiasts and chat about all things geological and palaeontological! \nA chance to look at rocks and fossils\, get your own specimens identified\, ask questions about geology and find out what’s happening locally. Tea and coffee provided. \n 
URL:https://geologyglasgow.org.uk/event/geo-natter-40/2026-02-18/
LOCATION:Kelvin Hall\, 1445 Argyle Street\, Glasgow\, G3 8AW\, United Kingdom
CATEGORIES:Other Events
ATTACH;FMTTYPE=image/png:https://geologyglasgow.org.uk/wp-content/uploads/2026/04/Screenshot-2026-04-02-150405.png
END:VEVENT
END:VCALENDAR